BEGIN:VCALENDAR
VERSION:2.0
PRODID:-//jEvents 2.0 for Joomla//EN
CALSCALE:GREGORIAN
METHOD:PUBLISH
BEGIN:VTIMEZONE
TZID:America/Chicago
BEGIN:STANDARD
DTSTART:20221119T000000
RDATE:20230312T030000
TZOFFSETFROM:-0500
TZOFFSETTO:-0600
TZNAME:America/Chicago CST
END:STANDARD
BEGIN:STANDARD
DTSTART:20231105T010000
RDATE:20240310T030000
TZOFFSETFROM:-0500
TZOFFSETTO:-0600
TZNAME:America/Chicago CST
END:STANDARD
BEGIN:STANDARD
DTSTART:20241103T010000
RDATE:20250309T030000
TZOFFSETFROM:-0500
TZOFFSETTO:-0600
TZNAME:America/Chicago CST
END:STANDARD
BEGIN:STANDARD
DTSTART:20251102T010000
RDATE:20260308T030000
TZOFFSETFROM:-0500
TZOFFSETTO:-0600
TZNAME:America/Chicago CST
END:STANDARD
BEGIN:STANDARD
DTSTART:20261101T010000
RDATE:20270314T030000
TZOFFSETFROM:-0500
TZOFFSETTO:-0600
TZNAME:America/Chicago CST
END:STANDARD
BEGIN:STANDARD
DTSTART:20271107T010000
RDATE:20280312T030000
TZOFFSETFROM:-0500
TZOFFSETTO:-0600
TZNAME:America/Chicago CST
END:STANDARD
BEGIN:STANDARD
DTSTART:20281105T010000
RDATE:20290311T030000
TZOFFSETFROM:-0500
TZOFFSETTO:-0600
TZNAME:America/Chicago CST
END:STANDARD
BEGIN:STANDARD
DTSTART:20291104T010000
RDATE:20300310T030000
TZOFFSETFROM:-0500
TZOFFSETTO:-0600
TZNAME:America/Chicago CST
END:STANDARD
BEGIN:STANDARD
DTSTART:20301103T010000
RDATE:20310309T030000
TZOFFSETFROM:-0500
TZOFFSETTO:-0600
TZNAME:America/Chicago CST
END:STANDARD
BEGIN:STANDARD
DTSTART:20311102T010000
RDATE:20320314T030000
TZOFFSETFROM:-0500
TZOFFSETTO:-0600
TZNAME:America/Chicago CST
END:STANDARD
BEGIN:DAYLIGHT
DTSTART:20230312T030000
RDATE:20231105T010000
TZOFFSETFROM:-0600
TZOFFSETTO:-0500
TZNAME:America/Chicago CDT
END:DAYLIGHT
BEGIN:DAYLIGHT
DTSTART:20240310T030000
RDATE:20241103T010000
TZOFFSETFROM:-0600
TZOFFSETTO:-0500
TZNAME:America/Chicago CDT
END:DAYLIGHT
BEGIN:DAYLIGHT
DTSTART:20250309T030000
RDATE:20251102T010000
TZOFFSETFROM:-0600
TZOFFSETTO:-0500
TZNAME:America/Chicago CDT
END:DAYLIGHT
BEGIN:DAYLIGHT
DTSTART:20260308T030000
RDATE:20261101T010000
TZOFFSETFROM:-0600
TZOFFSETTO:-0500
TZNAME:America/Chicago CDT
END:DAYLIGHT
BEGIN:DAYLIGHT
DTSTART:20270314T030000
RDATE:20271107T010000
TZOFFSETFROM:-0600
TZOFFSETTO:-0500
TZNAME:America/Chicago CDT
END:DAYLIGHT
BEGIN:DAYLIGHT
DTSTART:20280312T030000
RDATE:20281105T010000
TZOFFSETFROM:-0600
TZOFFSETTO:-0500
TZNAME:America/Chicago CDT
END:DAYLIGHT
BEGIN:DAYLIGHT
DTSTART:20290311T030000
RDATE:20291104T010000
TZOFFSETFROM:-0600
TZOFFSETTO:-0500
TZNAME:America/Chicago CDT
END:DAYLIGHT
BEGIN:DAYLIGHT
DTSTART:20300310T030000
RDATE:20301103T010000
TZOFFSETFROM:-0600
TZOFFSETTO:-0500
TZNAME:America/Chicago CDT
END:DAYLIGHT
BEGIN:DAYLIGHT
DTSTART:20310309T030000
RDATE:20311102T010000
TZOFFSETFROM:-0600
TZOFFSETTO:-0500
TZNAME:America/Chicago CDT
END:DAYLIGHT
END:VTIMEZONE
BEGIN:VEVENT
UID:f1a622b2ee25e12cdabe8a4b14ae455e
CATEGORIES:Volunteer Opportunity Events
CREATED:20231114T101826
SUMMARY:Staff Appreciation Volunteer Opportunity
DESCRIPTION:On Monday, November 20th, Misericordia is bringing The Fat Shallot food tru
 ck (made-to-order sandwiches) to campus for an appreciation event for Miser
 icordia Staff. Volunteers are needed to greet staff, check them in and keep
  the area clean.\nThe Food Truck will be on campus at the Holbrook Lot (bet
 ween Holbrook and Quinlan). Two volunteers are needed for each shift: 9:30 
 – 11:45 am; 11:45 am – 2:00 pm; and 6:00 – 8:45 pm.\nPlease sign-up at this
  link:  (https://www.signupgenius.com/go/10C0E4EACAE2DA7FBC52-45985871-thef
 at#/) (https://www.signupgenius.com/go/10C0E4EACAE2DA7FBC52-45985871-thefat
 #/)https://www.signupgenius.com/go/10C0E4EACAE2DA7FBC52-45985871-thefat#/\n
 Thank you,\nLisa Masucci &amp; John Butler\nMFA’s Volunteer Coordinators\n
X-ALT-DESC;FMTTYPE=text/html:<p>On Monday, November 20th, Misericordia is bringing The Fat Shallot food 
 truck (made-to-order sandwiches) to campus for an appreciation event for Mi
 sericordia Staff.&nbsp;<strong>Volunteers are needed</strong>&nbsp;to greet
  staff, check them in and keep the area clean.</p><p>The Food Truck will be
  on campus at the Holbrook Lot (between Holbrook and Quinlan). Two voluntee
 rs are needed for each shift:&nbsp;9:30 – 11:45 am; 11:45 am – 2:00 pm; and
  6:00 – 8:45 pm.</p><p>Please sign-up at this link:&nbsp;<strong><a href="h
 ttps://www.signupgenius.com/go/10C0E4EACAE2DA7FBC52-45985871-thefat#/"></a>
 <a href="https://www.signupgenius.com/go/10C0E4EACAE2DA7FBC52-45985871-thef
 at#/"></a><a href="https://www.signupgenius.com/go/10C0E4EACAE2DA7FBC52-459
 85871-thefat#/">https://www.signupgenius.com/go/10C0E4EACAE2DA7FBC52-459858
 71-thefat#/</a></strong></p><p>Thank you,<br />Lisa Masucci &amp; John Butl
 er<br />MFA’s Volunteer Coordinators</p>
DTSTAMP:20260425T023431
DTSTART;TZID=America/Chicago;VALUE=DATE:20231120
DTEND;TZID=America/Chicago;VALUE=DATE:20231121
SEQUENCE:0
TRANSP:OPAQUE
END:VEVENT
END:VCALENDAR