BEGIN:VCALENDAR
VERSION:2.0
PRODID:-//jEvents 2.0 for Joomla//EN
CALSCALE:GREGORIAN
METHOD:PUBLISH
BEGIN:VTIMEZONE
TZID:America/Chicago
BEGIN:STANDARD
DTSTART:20231105T010000
RDATE:20240310T030000
TZOFFSETFROM:-0500
TZOFFSETTO:-0600
TZNAME:America/Chicago CST
END:STANDARD
BEGIN:STANDARD
DTSTART:20241103T010000
RDATE:20250309T030000
TZOFFSETFROM:-0500
TZOFFSETTO:-0600
TZNAME:America/Chicago CST
END:STANDARD
BEGIN:STANDARD
DTSTART:20251102T010000
RDATE:20260308T030000
TZOFFSETFROM:-0500
TZOFFSETTO:-0600
TZNAME:America/Chicago CST
END:STANDARD
BEGIN:STANDARD
DTSTART:20261101T010000
RDATE:20270314T030000
TZOFFSETFROM:-0500
TZOFFSETTO:-0600
TZNAME:America/Chicago CST
END:STANDARD
BEGIN:STANDARD
DTSTART:20271107T010000
RDATE:20280312T030000
TZOFFSETFROM:-0500
TZOFFSETTO:-0600
TZNAME:America/Chicago CST
END:STANDARD
BEGIN:STANDARD
DTSTART:20281105T010000
RDATE:20290311T030000
TZOFFSETFROM:-0500
TZOFFSETTO:-0600
TZNAME:America/Chicago CST
END:STANDARD
BEGIN:STANDARD
DTSTART:20291104T010000
RDATE:20300310T030000
TZOFFSETFROM:-0500
TZOFFSETTO:-0600
TZNAME:America/Chicago CST
END:STANDARD
BEGIN:STANDARD
DTSTART:20301103T010000
RDATE:20310309T030000
TZOFFSETFROM:-0500
TZOFFSETTO:-0600
TZNAME:America/Chicago CST
END:STANDARD
BEGIN:STANDARD
DTSTART:20311102T010000
RDATE:20320314T030000
TZOFFSETFROM:-0500
TZOFFSETTO:-0600
TZNAME:America/Chicago CST
END:STANDARD
BEGIN:DAYLIGHT
DTSTART:20230902T000000
RDATE:20231105T010000
TZOFFSETFROM:-0600
TZOFFSETTO:-0500
TZNAME:America/Chicago CDT
END:DAYLIGHT
BEGIN:DAYLIGHT
DTSTART:20240310T030000
RDATE:20241103T010000
TZOFFSETFROM:-0600
TZOFFSETTO:-0500
TZNAME:America/Chicago CDT
END:DAYLIGHT
BEGIN:DAYLIGHT
DTSTART:20250309T030000
RDATE:20251102T010000
TZOFFSETFROM:-0600
TZOFFSETTO:-0500
TZNAME:America/Chicago CDT
END:DAYLIGHT
BEGIN:DAYLIGHT
DTSTART:20260308T030000
RDATE:20261101T010000
TZOFFSETFROM:-0600
TZOFFSETTO:-0500
TZNAME:America/Chicago CDT
END:DAYLIGHT
BEGIN:DAYLIGHT
DTSTART:20270314T030000
RDATE:20271107T010000
TZOFFSETFROM:-0600
TZOFFSETTO:-0500
TZNAME:America/Chicago CDT
END:DAYLIGHT
BEGIN:DAYLIGHT
DTSTART:20280312T030000
RDATE:20281105T010000
TZOFFSETFROM:-0600
TZOFFSETTO:-0500
TZNAME:America/Chicago CDT
END:DAYLIGHT
BEGIN:DAYLIGHT
DTSTART:20290311T030000
RDATE:20291104T010000
TZOFFSETFROM:-0600
TZOFFSETTO:-0500
TZNAME:America/Chicago CDT
END:DAYLIGHT
BEGIN:DAYLIGHT
DTSTART:20300310T030000
RDATE:20301103T010000
TZOFFSETFROM:-0600
TZOFFSETTO:-0500
TZNAME:America/Chicago CDT
END:DAYLIGHT
BEGIN:DAYLIGHT
DTSTART:20310309T030000
RDATE:20311102T010000
TZOFFSETFROM:-0600
TZOFFSETTO:-0500
TZNAME:America/Chicago CDT
END:DAYLIGHT
END:VTIMEZONE
BEGIN:VEVENT
UID:f6276a9e28e49191632ebb8803c9491f
CATEGORIES:Misericordia Events
CREATED:20240809T215427
SUMMARY:Pre and Day of Fest Volunteer Opportunities
DESCRIPTION:Volunteer at Family Fest! \nFamily Fest is our annual celebration of the re
 sidents and programs at Misericordia. To be successful, we rely on the gene
 rosity of hundreds of volunteers. There are volunteer opportunities in the 
 days leading up to the Fest as well as many on the day of the event, and he
 lp is needed in dozens of different capacities. Many areas have numerous sp
 aces available, so this is a great way to volunteer with friends and family
 ! \nVolunteer opportunities for the days leading up to the Fest can be foun
 d here -\n (https://www.signupgenius.com/go/8050D4CAEAC23A2F49-50112206-202
 4#/)https://www.signupgenius.com/go/8050D4CAEAC23A2F49-50112206-2024#/\nVol
 unteer opportunities on the day of the Fest can be found here -\n (https://
 www.signupgenius.com/go/8050D4CAEAC23A2F49-50110513-2024#/)https://www.sign
 upgenius.com/go/8050D4CAEAC23A2F49-50110513-2024#/\nPlease help us spread t
 he word by sharing these links with your friends, family, and neighbors!\n\
 n
X-ALT-DESC;FMTTYPE=text/html:<p><span style="color: #993300;"><strong>Volunteer at Family Fest!&nbsp;</s
 trong></span></p><p>Family Fest is our annual celebration of the residents 
 and programs at Misericordia. To be successful, we rely on the generosity o
 f hundreds of volunteers. There are volunteer opportunities in the days lea
 ding up to the Fest as well as many on the day of the event, and help is ne
 eded in dozens of different capacities. Many areas have numerous spaces ava
 ilable, so this is a great way to volunteer with friends and family!&nbsp;<
 /p><p><strong>Volunteer opportunities for the days leading up to the Fest c
 an be found here -</strong></p><p><strong><a href="https://www.signupgenius
 .com/go/8050D4CAEAC23A2F49-50112206-2024#/"></a><a href="https://www.signup
 genius.com/go/8050D4CAEAC23A2F49-50112206-2024#/">https://www.signupgenius.
 com/go/8050D4CAEAC23A2F49-50112206-2024#/</a></strong></p><p><strong>Volunt
 eer opportunities on the day of the Fest can be found here -</strong></p><p
 ><strong><a href="https://www.signupgenius.com/go/8050D4CAEAC23A2F49-501105
 13-2024#/"></a><a href="https://www.signupgenius.com/go/8050D4CAEAC23A2F49-
 50110513-2024#/">https://www.signupgenius.com/go/8050D4CAEAC23A2F49-5011051
 3-2024#/</a></strong></p><p><strong>Please help us spread the word by shari
 ng these links with your friends, family, and neighbors!</strong></p><p><sp
 an style="font-size: 12pt;"></span></p>
DTSTAMP:20260421T135616
DTSTART;TZID=America/Chicago;VALUE=DATE:20240902
DTEND;TZID=America/Chicago;VALUE=DATE:20240909
SEQUENCE:0
TRANSP:OPAQUE
END:VEVENT
END:VCALENDAR