BEGIN:VCALENDAR
VERSION:2.0
PRODID:-//jEvents 2.0 for Joomla//EN
CALSCALE:GREGORIAN
METHOD:PUBLISH
BEGIN:VTIMEZONE
TZID:America/Chicago
BEGIN:STANDARD
DTSTART:20231105T010000
RDATE:20240310T030000
TZOFFSETFROM:-0500
TZOFFSETTO:-0600
TZNAME:America/Chicago CST
END:STANDARD
BEGIN:STANDARD
DTSTART:20241103T010000
RDATE:20250309T030000
TZOFFSETFROM:-0500
TZOFFSETTO:-0600
TZNAME:America/Chicago CST
END:STANDARD
BEGIN:STANDARD
DTSTART:20251102T010000
RDATE:20260308T030000
TZOFFSETFROM:-0500
TZOFFSETTO:-0600
TZNAME:America/Chicago CST
END:STANDARD
BEGIN:STANDARD
DTSTART:20261101T010000
RDATE:20270314T030000
TZOFFSETFROM:-0500
TZOFFSETTO:-0600
TZNAME:America/Chicago CST
END:STANDARD
BEGIN:STANDARD
DTSTART:20271107T010000
RDATE:20280312T030000
TZOFFSETFROM:-0500
TZOFFSETTO:-0600
TZNAME:America/Chicago CST
END:STANDARD
BEGIN:STANDARD
DTSTART:20281105T010000
RDATE:20290311T030000
TZOFFSETFROM:-0500
TZOFFSETTO:-0600
TZNAME:America/Chicago CST
END:STANDARD
BEGIN:STANDARD
DTSTART:20291104T010000
RDATE:20300310T030000
TZOFFSETFROM:-0500
TZOFFSETTO:-0600
TZNAME:America/Chicago CST
END:STANDARD
BEGIN:STANDARD
DTSTART:20301103T010000
RDATE:20310309T030000
TZOFFSETFROM:-0500
TZOFFSETTO:-0600
TZNAME:America/Chicago CST
END:STANDARD
BEGIN:STANDARD
DTSTART:20311102T010000
RDATE:20320314T030000
TZOFFSETFROM:-0500
TZOFFSETTO:-0600
TZNAME:America/Chicago CST
END:STANDARD
BEGIN:DAYLIGHT
DTSTART:20230826T000000
RDATE:20231105T010000
TZOFFSETFROM:-0600
TZOFFSETTO:-0500
TZNAME:America/Chicago CDT
END:DAYLIGHT
BEGIN:DAYLIGHT
DTSTART:20240310T030000
RDATE:20241103T010000
TZOFFSETFROM:-0600
TZOFFSETTO:-0500
TZNAME:America/Chicago CDT
END:DAYLIGHT
BEGIN:DAYLIGHT
DTSTART:20250309T030000
RDATE:20251102T010000
TZOFFSETFROM:-0600
TZOFFSETTO:-0500
TZNAME:America/Chicago CDT
END:DAYLIGHT
BEGIN:DAYLIGHT
DTSTART:20260308T030000
RDATE:20261101T010000
TZOFFSETFROM:-0600
TZOFFSETTO:-0500
TZNAME:America/Chicago CDT
END:DAYLIGHT
BEGIN:DAYLIGHT
DTSTART:20270314T030000
RDATE:20271107T010000
TZOFFSETFROM:-0600
TZOFFSETTO:-0500
TZNAME:America/Chicago CDT
END:DAYLIGHT
BEGIN:DAYLIGHT
DTSTART:20280312T030000
RDATE:20281105T010000
TZOFFSETFROM:-0600
TZOFFSETTO:-0500
TZNAME:America/Chicago CDT
END:DAYLIGHT
BEGIN:DAYLIGHT
DTSTART:20290311T030000
RDATE:20291104T010000
TZOFFSETFROM:-0600
TZOFFSETTO:-0500
TZNAME:America/Chicago CDT
END:DAYLIGHT
BEGIN:DAYLIGHT
DTSTART:20300310T030000
RDATE:20301103T010000
TZOFFSETFROM:-0600
TZOFFSETTO:-0500
TZNAME:America/Chicago CDT
END:DAYLIGHT
BEGIN:DAYLIGHT
DTSTART:20310309T030000
RDATE:20311102T010000
TZOFFSETFROM:-0600
TZOFFSETTO:-0500
TZNAME:America/Chicago CDT
END:DAYLIGHT
END:VTIMEZONE
BEGIN:VEVENT
UID:4e481da33b8fc284d3b46d23fe7b814c
CATEGORIES:Volunteer Opportunity Events
CREATED:20240818T224825
SUMMARY:Organizing Staff Gifts - Volunteer Opportunity
DESCRIPTION:Four (4) volunteers are needed on Monday, August 26th, to organize the staf
 f gifts - pizza boards - for the 500+ DSPs and CNAs being recognized in Sep
 tember.\nThere will be one shift from 9:00 am – 1 pm. Duties include unboxi
 ng the large pizza boards, bagging them, and separating them by area. The w
 ork will be done in the Social Center on the lower level of the Shannon Apa
 rtment Building.\nPlease see the link for additional information and to sig
 n up:\n (https://www.signupgenius.com/go/10C0E4EACAE2DA7FBC52-50641309-mise
 ricordia)https://www.signupgenius.com/go/10C0E4EACAE2DA7FBC52-50641309-mise
 ricordia\nThank you,\nLisa Masucci &amp; John Butler\nMFA’s Staff Appreciat
 ion Coordinators\n
X-ALT-DESC;FMTTYPE=text/html:<p><strong>Four (4) volunteers are needed on Monday, August 26th</strong>, 
 to organize the staff gifts - pizza boards - for the 500+ DSPs and CNAs bei
 ng recognized in September.</p><p>There will be one shift from 9:00 am – 1 
 pm. Duties include unboxing the large pizza boards, bagging them, and separ
 ating them by area. The work will be done in the Social Center on the lower
  level of the Shannon Apartment Building.</p><p>Please see the link for add
 itional information and to sign up:</p><p><strong><a href="https://www.sign
 upgenius.com/go/10C0E4EACAE2DA7FBC52-50641309-misericordia"></a><a href="ht
 tps://www.signupgenius.com/go/10C0E4EACAE2DA7FBC52-50641309-misericordia">h
 ttps://www.signupgenius.com/go/10C0E4EACAE2DA7FBC52-50641309-misericordia</
 a></strong></p><p>Thank you,</p><p>Lisa Masucci &amp; John Butler</p><p>MFA
 ’s Staff Appreciation Coordinators</p>
DTSTAMP:20260421T110519
DTSTART;TZID=America/Chicago;VALUE=DATE:20240826
DTEND;TZID=America/Chicago;VALUE=DATE:20240827
SEQUENCE:0
TRANSP:OPAQUE
END:VEVENT
END:VCALENDAR